BEGIN:VCALENDAR
VERSION:2.0
PRODID:-//Tukios.com/
BEGIN:VEVENT
UID:665f7bf2-e184-4fbc-92ba-a13e01f5a689@www.adamsfuneralservicesinc.com
DTSTAMP:20260421T004440Z
DTSTART:20260502
SUMMARY:Burial
DESCRIPTION:
URL:https://www.adamsfuneralservicesinc.com/obituaries/verdell-daniels-jr
LOCATION: 14022 White Bluff Rd  Savannah GA 31419
GEO:31.9613086;-81.1353136
END:VEVENT
END:VCALENDAR