BEGIN:VCALENDAR
VERSION:2.0
PRODID:-//Tukios.com/
BEGIN:VEVENT
UID:ed5f55d3-4d1b-4805-85a6-fa25b55d5556@www.adamsfuneralservicesinc.com
DTSTAMP:20260421T003741Z
DTSTART:20260502T150000Z
DTEND:20260502T160000Z
SUMMARY:Funeral Service
DESCRIPTION:
URL:https://www.adamsfuneralservicesinc.com/obituaries/verdell-daniels-jr
LOCATION: 21 Lorwood Drive  Savannah GA 31406
GEO:31.9852318;-81.126572
END:VEVENT
END:VCALENDAR