BEGIN:VCALENDAR
VERSION:2.0
PRODID:-//Tukios.com/
BEGIN:VEVENT
UID:a924c8b8-4220-4b91-b596-30451a7f16c9@www.adamsfuneralservicesinc.com
DTSTAMP:20260424T021817Z
DTSTART:20260502T183000Z
DTEND:20260502T184500Z
SUMMARY:Burial
DESCRIPTION:
URL:https://www.adamsfuneralservicesinc.com/obituaries/shanika-maner-kabore
LOCATION:  Roberts St  Savannah GA 31408
GEO:32.0936932;-81.1384899
END:VEVENT
END:VCALENDAR