BEGIN:VCALENDAR
VERSION:2.0
PRODID:-//Tukios.com/
BEGIN:VEVENT
UID:c5e93819-ff48-4c3f-9fb8-c0b7d5b78e79@www.adamsfuneralservicesinc.com
DTSTAMP:20260424T022311Z
DTSTART:20260502T170000Z
DTEND:20260502T181500Z
SUMMARY:Funeral Service
DESCRIPTION:
URL:https://www.adamsfuneralservicesinc.com/obituaries/shanika-maner-kabore
LOCATION: 1323 Golden St  Savannah GA 31415
GEO:32.0836007;-81.1176467
END:VEVENT
END:VCALENDAR