BEGIN:VCALENDAR
VERSION:2.0
PRODID:-//Tukios.com/
BEGIN:VEVENT
UID:20f19004-b0a8-4e3f-8186-f71dd31bba0d@www.adamsfuneralservicesinc.com
DTSTAMP:20260424T022015Z
DTSTART:20260501T200000Z
DTEND:20260501T220000Z
SUMMARY:Viewing
DESCRIPTION:
URL:https://www.adamsfuneralservicesinc.com/obituaries/shanika-maner-kabore
LOCATION: 510 Stephenson Avenue  Savannah GA 31405
GEO:32.011687;-81.1042211
END:VEVENT
END:VCALENDAR